BEGIN:VCALENDAR
VERSION:2.0
PRODID:-//Le Radar Lyonnais - ECPv6.15.20//NONSGML v1.0//EN
CALSCALE:GREGORIAN
METHOD:PUBLISH
X-WR-CALNAME:Le Radar Lyonnais
X-ORIGINAL-URL:https://leradarlyonnais.fr
X-WR-CALDESC:Évènements pour Le Radar Lyonnais
REFRESH-INTERVAL;VALUE=DURATION:PT1H
X-Robots-Tag:noindex
X-PUBLISHED-TTL:PT1H
BEGIN:VTIMEZONE
TZID:Europe/Helsinki
BEGIN:DAYLIGHT
TZOFFSETFROM:+0200
TZOFFSETTO:+0300
TZNAME:EEST
DTSTART:20250330T010000
END:DAYLIGHT
BEGIN:STANDARD
TZOFFSETFROM:+0300
TZOFFSETTO:+0200
TZNAME:EET
DTSTART:20251026T010000
END:STANDARD
BEGIN:DAYLIGHT
TZOFFSETFROM:+0200
TZOFFSETTO:+0300
TZNAME:EEST
DTSTART:20260329T010000
END:DAYLIGHT
BEGIN:STANDARD
TZOFFSETFROM:+0300
TZOFFSETTO:+0200
TZNAME:EET
DTSTART:20261025T010000
END:STANDARD
BEGIN:DAYLIGHT
TZOFFSETFROM:+0200
TZOFFSETTO:+0300
TZNAME:EEST
DTSTART:20270328T010000
END:DAYLIGHT
BEGIN:STANDARD
TZOFFSETFROM:+0300
TZOFFSETTO:+0200
TZNAME:EET
DTSTART:20271031T010000
END:STANDARD
END:VTIMEZONE
BEGIN:VEVENT
DTSTART;TZID=Europe/Helsinki:20261126T200000
DTEND;TZID=Europe/Helsinki:20261126T200000
DTSTAMP:20260421T113153
CREATED:20260420T171702Z
LAST-MODIFIED:20260420T171702Z
UID:7977-1795723200-1795723200@leradarlyonnais.fr
SUMMARY:Ben Mazué
DESCRIPTION:Après une tournée triomphale de 30 théâtres et 20 Zénith complets\, Ben Mazué annonce une nouvelle série de concerts pour faire durer l’émotion. Place aux prolongations à la LDLC Arena le 26 novembre 2026 ! \nBen Mazué est un auteur-compositeur-interprète français reconnu pour la sincérité et la finesse de ses textes.\nMêlant chanson française et pop\, il propose un univers intime et profondément humain. Ses morceaux abordent des thèmes universels comme l’amour\, le temps qui passe et les relations humaines. Révélé au grand public avec des titres comme La femme idéale\, il s’impose rapidement sur la scène musicale française. Son style se distingue par une narration proche du récit\, souvent entre poésie et conversation. Sur scène\, il offre des performances touchantes et authentiques\, créant une forte connexion avec le public. Ben Mazué séduit par sa capacité à transformer des moments de vie en chansons universelles.\nÀ la LDLC Arena\, il promet une expérience musicale riche en émotions et en partage. \n> Cliquez ici pour prendre vos places dès maintenant !\n 
URL:https://leradarlyonnais.fr/evenement/ben-mazue/
LOCATION:LDLC Arena\, 5 Avenue Simone Veil\, Décines-Charpieu\, 69150\, France
CATEGORIES:Chanson française,Concerts,Pop
ATTACH;FMTTYPE=image/png:https://leradarlyonnais.fr/wp-content/uploads/2026/04/ben-mazue-lyon-ldlc-arena.png
END:VEVENT
END:VCALENDAR