BEGIN:VCALENDAR
VERSION:2.0
PRODID:-//Le Radar Lyonnais - ECPv6.15.20//NONSGML v1.0//EN
CALSCALE:GREGORIAN
METHOD:PUBLISH
X-WR-CALNAME:Le Radar Lyonnais
X-ORIGINAL-URL:https://leradarlyonnais.fr
X-WR-CALDESC:Évènements pour Le Radar Lyonnais
REFRESH-INTERVAL;VALUE=DURATION:PT1H
X-Robots-Tag:noindex
X-PUBLISHED-TTL:PT1H
BEGIN:VTIMEZONE
TZID:Europe/Paris
BEGIN:DAYLIGHT
TZOFFSETFROM:+0100
TZOFFSETTO:+0200
TZNAME:CEST
DTSTART:20250330T010000
END:DAYLIGHT
BEGIN:STANDARD
TZOFFSETFROM:+0200
TZOFFSETTO:+0100
TZNAME:CET
DTSTART:20251026T010000
END:STANDARD
BEGIN:DAYLIGHT
TZOFFSETFROM:+0100
TZOFFSETTO:+0200
TZNAME:CEST
DTSTART:20260329T010000
END:DAYLIGHT
BEGIN:STANDARD
TZOFFSETFROM:+0200
TZOFFSETTO:+0100
TZNAME:CET
DTSTART:20261025T010000
END:STANDARD
BEGIN:DAYLIGHT
TZOFFSETFROM:+0100
TZOFFSETTO:+0200
TZNAME:CEST
DTSTART:20270328T010000
END:DAYLIGHT
BEGIN:STANDARD
TZOFFSETFROM:+0200
TZOFFSETTO:+0100
TZNAME:CET
DTSTART:20271031T010000
END:STANDARD
END:VTIMEZONE
BEGIN:VEVENT
DTSTART;TZID=Europe/Paris:20260417T203000
DTEND;TZID=Europe/Paris:20260417T203000
DTSTAMP:20260419T154348
CREATED:20250711T113100Z
LAST-MODIFIED:20250711T113100Z
UID:4085-1776457800-1776457800@leradarlyonnais.fr
SUMMARY:Mathieu Madenian
DESCRIPTION:«A PLEURER DE RIRE»\, c’est la promesse que fait Mathieu Madenian avec ce quatrième et nouveau spectacle dans lequel il nous raconte avec son sens inouï de l’autodérision comment sa vie et ses certitudes les plus profondes ont été bouleversées par l’arrivée tardive de son premier enfant.Pendant une heure menée à tambours battants\, Mathieu nous embarque dans une plongée à travers l’univers tumultueux d’un père nouvellement émoulu qui tente de jongler avec l’absurdité d’un monde au bord du chaos tout en apprenant les ficelles de la paternité.\nComment concilier son éducation traditionnelle avec la nouvelle vague de paternité moderne ?\nComment expliquer à son fils les concepts de genre… alors qu’il ne maîtrise même pas TikTok ?\nEt surtout\, comment ne pas passer pour un boomer largué ?\nAvec ce talent unique pour transformer le quotidien en comédie\, Mathieu nous offre un spectacle où il parle de ses erreurs\, de ses ratés\, et des leçons qu’il Dre de son petit garçon\, qui\, à peine né\, semble déjà en savoir plus sur la vie que lui.\nUn voyage hilarant et émouvant dans lequel Mathieu nous livre son spectacle à la fois le plus personnel et le plus universel.\n \n> Cliquez ici pour prendre vos places dès maintenant !
URL:https://leradarlyonnais.fr/evenement/mathieu-madenian/
LOCATION:Radiant-Bellevue\, 1 Rue Jean Moulin\, Caluire-et-Cuire\, 69300\, France
CATEGORIES:Humour
ATTACH;FMTTYPE=image/png:https://leradarlyonnais.fr/wp-content/uploads/2025/07/Mathieu-Madenian.png
END:VEVENT
END:VCALENDAR